BEGIN:VCALENDAR
VERSION:2.0
PRODID:-//217.160.0.145//NONSGML kigkonsult.se iCalcreator 2.20//
CALSCALE:GREGORIAN
METHOD:PUBLISH
X-WR-TIMEZONE:UTC
BEGIN:VEVENT
UID:event113@Sportschützen Donaurieden 1957 e.V.
DTSTAMP:20260424T173706Z
CATEGORIES:Schützenverein Donaurieden
DESCRIPTION:Saisonabschluss\nKategorie: Schützenverein Donaurieden\nICS-Lin
 k: https://sportschuetzen-donaurieden.de/index.php?option=com_jem&view=eve
 nt&id=113:saisonabschluss\n
DTSTART;VALUE=DATE:20250803
DTEND;VALUE=DATE:20250804
SUMMARY:Saisonabschluss
URL:https://sportschuetzen-donaurieden.de/index.php?option=com_jem&view=eve
 nt&id=113:saisonabschluss
END:VEVENT
END:VCALENDAR