BEGIN:VCALENDAR
VERSION:2.0
PRODID:-//217.160.0.145//NONSGML kigkonsult.se iCalcreator 2.20//
CALSCALE:GREGORIAN
METHOD:PUBLISH
X-WR-TIMEZONE:UTC
BEGIN:VEVENT
UID:event115@Sportschützen Donaurieden 1957 e.V.
DTSTAMP:20260424T175011Z
CATEGORIES:Bezirk Oberschwaben
DESCRIPTION:Bezirksjugendtag\nKategorie: Bezirk Oberschwaben\nICS-Link: htt
 ps://sportschuetzen-donaurieden.de/index.php?option=com_jem&view=event&id=
 115:bezirksjugendtag\n
DTSTART;VALUE=DATE:20250912
DTEND;VALUE=DATE:20250913
SUMMARY:Bezirksjugendtag
URL:https://sportschuetzen-donaurieden.de/index.php?option=com_jem&view=eve
 nt&id=115:bezirksjugendtag
END:VEVENT
END:VCALENDAR