BEGIN:VCALENDAR
VERSION:2.0
PRODID:-//217.160.0.145//NONSGML kigkonsult.se iCalcreator 2.20//
CALSCALE:GREGORIAN
METHOD:PUBLISH
X-WR-TIMEZONE:UTC
BEGIN:VEVENT
UID:event119@Sportschützen Donaurieden 1957 e.V.
DTSTAMP:20260424T173932Z
CATEGORIES:Schützenverein Donaurieden
DESCRIPTION:Weihnachtsfeier\nKategorie: Schützenverein Donaurieden\nICS-Lin
 k: https://sportschuetzen-donaurieden.de/index.php?option=com_jem&view=eve
 nt&id=119:weihnachtsfeier\n
DTSTART;VALUE=DATE:20251219
DTEND;VALUE=DATE:20251220
SUMMARY:Weihnachtsfeier
URL:https://sportschuetzen-donaurieden.de/index.php?option=com_jem&view=eve
 nt&id=119:weihnachtsfeier
END:VEVENT
END:VCALENDAR