BEGIN:VCALENDAR
VERSION:2.0
PRODID:-//217.160.0.145//NONSGML kigkonsult.se iCalcreator 2.20//
CALSCALE:GREGORIAN
METHOD:PUBLISH
X-WR-TIMEZONE:UTC
BEGIN:VEVENT
UID:event121@Sportschützen Donaurieden 1957 e.V.
DTSTAMP:20260424T173748Z
CATEGORIES:Schützenverein Donaurieden
DESCRIPTION:Hauptversammlung\nKategorie: Schützenverein Donaurieden\nICS-Li
 nk: https://sportschuetzen-donaurieden.de/index.php?option=com_jem&view=ev
 ent&id=121:hauptversammlung\n
DTSTART:20260206T200000Z
DTEND:20260206T200000Z
LOCATION:Schützenheim Donaurieden\,Bruckgrieß 1\,89155 Donaurieden
SUMMARY:Hauptversammlung
URL:https://sportschuetzen-donaurieden.de/index.php?option=com_jem&view=eve
 nt&id=121:hauptversammlung
END:VEVENT
END:VCALENDAR