BEGIN:VCALENDAR
VERSION:2.0
PRODID:-//217.160.0.145//NONSGML kigkonsult.se iCalcreator 2.20//
CALSCALE:GREGORIAN
METHOD:PUBLISH
X-WR-TIMEZONE:UTC
BEGIN:VEVENT
UID:event122@Sportschützen Donaurieden 1957 e.V.
DTSTAMP:20260424T173926Z
CATEGORIES:Schützenverein Donaurieden
DESCRIPTION:Kaspertheater\nKategorie: Schützenverein Donaurieden\nICS-Link:
  https://sportschuetzen-donaurieden.de/index.php?option=com_jem&view=event
 &id=122:kaspertheater\n
DTSTART:20260228T150000Z
DTEND:20260228T150000Z
LOCATION:Schützenheim Donaurieden\,Bruckgrieß 1\,89155 Donaurieden
SUMMARY:Kaspertheater
URL:https://sportschuetzen-donaurieden.de/index.php?option=com_jem&view=eve
 nt&id=122:kaspertheater
END:VEVENT
END:VCALENDAR