BEGIN:VCALENDAR
VERSION:2.0
PRODID:-//217.160.0.145//NONSGML kigkonsult.se iCalcreator 2.20//
CALSCALE:GREGORIAN
METHOD:PUBLISH
X-WR-TIMEZONE:UTC
BEGIN:VEVENT
UID:event123@Sportschützen Donaurieden 1957 e.V.
DTSTAMP:20260424T175312Z
CATEGORIES:Schützenkreis Ehingen
DESCRIPTION:Kreisschützentag\nKategorie: Schützenkreis Ehingen\nICS-Link: h
 ttps://sportschuetzen-donaurieden.de/index.php?option=com_jem&view=event&i
 d=123:kreisschuetzentag\n
DTSTART:20260306T193000Z
DTEND:20260306T193000Z
LOCATION:Hundersingen\,89613 Hundersingen
SUMMARY:Kreisschützentag
URL:https://sportschuetzen-donaurieden.de/index.php?option=com_jem&view=eve
 nt&id=123:kreisschuetzentag
END:VEVENT
END:VCALENDAR