BEGIN:VCALENDAR
VERSION:2.0
PRODID:-//217.160.0.145//NONSGML kigkonsult.se iCalcreator 2.20//
CALSCALE:GREGORIAN
METHOD:PUBLISH
X-WR-TIMEZONE:UTC
BEGIN:VEVENT
UID:event124@Sportschützen Donaurieden 1957 e.V.
DTSTAMP:20260424T173736Z
CATEGORIES:Schützenverein Donaurieden
DESCRIPTION:Jedermannturnier\nKategorie: Schützenverein Donaurieden\nICS-Li
 nk: https://sportschuetzen-donaurieden.de/index.php?option=com_jem&view=ev
 ent&id=124:jedermannturnier\n
DTSTART:20260324T190000Z
DTEND:20260326T190000Z
LOCATION:Schützenheim Donaurieden\,Bruckgrieß 1\,89155 Donaurieden
SUMMARY:Jedermannturnier
URL:https://sportschuetzen-donaurieden.de/index.php?option=com_jem&view=eve
 nt&id=124:jedermannturnier
END:VEVENT
END:VCALENDAR