BEGIN:VCALENDAR
VERSION:2.0
PRODID:-//217.160.0.145//NONSGML kigkonsult.se iCalcreator 2.20//
CALSCALE:GREGORIAN
METHOD:PUBLISH
X-WR-TIMEZONE:UTC
BEGIN:VEVENT
UID:event125@Sportschützen Donaurieden 1957 e.V.
DTSTAMP:20260424T174114Z
CATEGORIES:Schützenverein Donaurieden
DESCRIPTION:Jedermannturnier Siegerehrung\nKategorie: Schützenverein Donaur
 ieden\nICS-Link: https://sportschuetzen-donaurieden.de/index.php?option=co
 m_jem&view=event&id=125:jedermannturnier-siegerehrung\n
DTSTART;VALUE=DATE:20260327
DTEND;VALUE=DATE:20260328
LOCATION:Schützenheim Donaurieden\,Bruckgrieß 1\,89155 Donaurieden
SUMMARY:Jedermannturnier Siegerehrung
URL:https://sportschuetzen-donaurieden.de/index.php?option=com_jem&view=eve
 nt&id=125:jedermannturnier-siegerehrung
END:VEVENT
END:VCALENDAR