BEGIN:VCALENDAR
VERSION:2.0
PRODID:-//217.160.0.145//NONSGML kigkonsult.se iCalcreator 2.20//
CALSCALE:GREGORIAN
METHOD:PUBLISH
X-WR-TIMEZONE:UTC
BEGIN:VEVENT
UID:event129@Sportschützen Donaurieden 1957 e.V.
DTSTAMP:20260424T161304Z
CATEGORIES:Schützenverein Donaurieden
DESCRIPTION:Schülerferienprogramm\nKategorie: Schützenverein Donaurieden\nI
 CS-Link: https://sportschuetzen-donaurieden.de/index.php?option=com_jem&vi
 ew=event&id=129:schuelerferienprogramm\n
DTSTART;VALUE=DATE:20260807
DTEND;VALUE=DATE:20260808
LOCATION:Schützenheim Donaurieden\,Bruckgrieß 1\,89155 Donaurieden
SUMMARY:Schülerferienprogramm
URL:https://sportschuetzen-donaurieden.de/index.php?option=com_jem&view=eve
 nt&id=129:schuelerferienprogramm
END:VEVENT
END:VCALENDAR