BEGIN:VCALENDAR
VERSION:2.0
PRODID:-//217.160.0.145//NONSGML kigkonsult.se iCalcreator 2.20//
CALSCALE:GREGORIAN
METHOD:PUBLISH
X-WR-TIMEZONE:UTC
BEGIN:VEVENT
UID:event131@Sportschützen Donaurieden 1957 e.V.
DTSTAMP:20260424T175414Z
CATEGORIES:Schützenverein Donaurieden
DESCRIPTION:Schlachtfest\nKategorie: Schützenverein Donaurieden\nICS-Link: 
 https://sportschuetzen-donaurieden.de/index.php?option=com_jem&view=event&
 id=131:schlachtfest\n
DTSTART:20261115T110000Z
DTEND:20261115T140000Z
LOCATION:Schützenheim Donaurieden\,Bruckgrieß 1\,89155 Donaurieden
SUMMARY:Schlachtfest
URL:https://sportschuetzen-donaurieden.de/index.php?option=com_jem&view=eve
 nt&id=131:schlachtfest
END:VEVENT
END:VCALENDAR