BEGIN:VCALENDAR
VERSION:2.0
PRODID:-//217.160.0.145//NONSGML kigkonsult.se iCalcreator 2.20//
CALSCALE:GREGORIAN
METHOD:PUBLISH
X-WR-TIMEZONE:UTC
BEGIN:VEVENT
UID:event132@Sportschützen Donaurieden 1957 e.V.
DTSTAMP:20260424T160829Z
CATEGORIES:Schützenverein Donaurieden
DESCRIPTION:Weihnachtsfeier\nKategorie: Schützenverein Donaurieden\nICS-Lin
 k: https://sportschuetzen-donaurieden.de/index.php?option=com_jem&view=eve
 nt&id=132:weihnachtsfeier\n
DTSTART;VALUE=DATE:20261218
DTEND;VALUE=DATE:20261219
LOCATION:Schützenheim Donaurieden\,Bruckgrieß 1\,89155 Donaurieden
SUMMARY:Weihnachtsfeier
URL:https://sportschuetzen-donaurieden.de/index.php?option=com_jem&view=eve
 nt&id=132:weihnachtsfeier
END:VEVENT
END:VCALENDAR