BEGIN:VCALENDAR
VERSION:2.0
PRODID:-//217.160.0.145//NONSGML kigkonsult.se iCalcreator 2.20//
CALSCALE:GREGORIAN
METHOD:PUBLISH
X-WR-TIMEZONE:UTC
BEGIN:VEVENT
UID:event126@Sportschützen Donaurieden 1957 e.V.
DTSTAMP:20260424T161257Z
CATEGORIES:Schützenkreis Ehingen
DESCRIPTION:Kreispokalsiegerehrung\nKategorie: Schützenkreis Ehingen\nICS-L
 ink: https://sportschuetzen-donaurieden.de/index.php?option=com_jem&view=e
 vent&id=126:kreispokalsiegerehrung\n
DTSTART;VALUE=DATE:20260424
DTEND;VALUE=DATE:20260425
LOCATION:Munderkingen\,89597 Munderkingen\,Germany
SUMMARY:Kreispokalsiegerehrung
URL:https://sportschuetzen-donaurieden.de/index.php?option=com_jem&view=eve
 nt&id=126:kreispokalsiegerehrung
END:VEVENT
END:VCALENDAR